BEGIN:VCALENDAR
PRODID://WordPress//Event-Post-V5.9.2//EN
VERSION:2.0
BEGIN:VTIMEZONE
TZID:Europe/Rome
BEGIN:DAYLIGHT
TZOFFSETFROM:+0100
TZOFFSETTO:+0200
DTSTART:19700329T020000
RRULE:FREQ=YEARLY;BYDAY=-1SU;BYMONTH=3
END:DAYLIGHT
BEGIN:STANDARD
TZOFFSETFROM:+0200
TZOFFSETTO:+0100
TZNAME:CET
DTSTART:19701025T030000
RRULE:FREQ=YEARLY;BYDAY=-1SU;BYMONTH=10
END:STANDARD
END:VTIMEZONE
BEGIN:VEVENT
SUMMARY:Giornata internazionale dei musei 2026
UID:https://museidartemendrisiotto.ch/gim-2026/
LOCATION:
DTSTAMP:20260422
DTSTART;TZID=Europe/Rome:20260422
DTEND;TZID=Europe/Rome:20260605
DESCRIPTION:Un mese intero dedicato alla scoperta dell'offerta artistica del
Mendrisiotto
La Giornata internazionale dei musei, tradizionalmente celebrata il 18
maggio, offre l’occasione per proporre un ampio programma che si estende
a tutto il mese di maggio.
A turno e per quattro fine settimana consecutivi, i musei della rete MAM
apriranno le loro porte al pubblico, offrendo l’ingresso gratuito e una
visita guidata alle mostre in corso. Sarà il momento ideale per esplorare
una proposta culturale ricca e diversificata, che spazia dall’arte antica
al video, passando per architettura, scultura, design, fotografia e
installazioni site-specific.
Il calendario si apre venerdì 1° maggio al m.a.x. museo a Chiasso.
Seguiranno il Teatro dell’architettura Mendrisio domenica 10 maggio, il
Museo Vincenzo Vela a Ligornetto e la Pinacoteca cantonale Giovanni Züst a
Rancate domenica 17 maggio, per concludersi con il Museo d’arte Mendrisio
domenica 24 maggio.
Tutte le attività proposte sono gratuite!



PROGRAMMA

Venerdì 1° maggio
→ m.a.x. museo 
• 10.30
Visita guidata gratuita all’esposizione max bill (1908-1994): la
grammatica della bellezza
La mostra pone l’accento sulla centralità della figura di Max Bill -
architetto, pittore, scultore, designer e grafico svizzero - come
protagonista della cultura del Moderno, con particolare riferimento alle
relazioni fra Zurigo, il Canton Ticino e l’Italia.
• 15.30-16.30
Laboratorio di matematica e arte con Cesare Baj, divulgatore scientifico
Presso il CIAG, Via Dante Alighieri 10, Chiasso.
Iscrizione obbligatoria: eventi@maxmuseo.ch
MAGGIORI INFO




Domenica 10 maggio 
→ Teatro dell’architettura Mendrisio 
• 11.00
Visita guidata gratuita alle mostre:
La costruzione dell’architettura in Ticino, 1939-1996. Materialità e
tettonica
La mostra propone una rilettura di oltre cinquant’anni di architettura
ticinese attraverso cento edifici selezionati per il loro interesse dal
punto di vista costruttivo.
Pino Musi. Continuum
Concepita come un progetto site-specific, l’esposizione presenta una
selezione di fotografie in bianco e nero che indagano forma, materia e
percezione dello spazio.
Installazione “Spleipnir e il Labirinto di Porte”
Nell'atrium del Teatro dell’architettura Mendrisio, l’installazione si
compone di tre elementi: la porta, il labirinto e Sleipnir, scultura
iconica di Duilio Forte.
Iscrizioni: eventi.tam@usi.ch
MAGGIORI INFO




Domenica 17 maggio 
→ Museo Vincenzo Vela
• 11.00
Visita guidata gratuita all’esposizione Bertille Bak. Voci dalla terra
Al confine tra documentario sociologico e fiction, realismo e burlesco, la
produzione di Bertille Bak intreccia narrazioni personali e collettive,
creando una «fabbrica di storie» che reinventano il quotidiano e offrono
una forma di resistenza poetica di fronte alla durezza della realtà.
• 14.00-15.30
“Gli Gnurpa”- Atelier per bambini/e con Ioana Butu, cantante e
burattinaia
Grazie al racconto di una storia fantastica siamo invitati a conoscere gli
Gnurpa, esseri magici che vivono nei nostri sogni. Questi personaggi hanno
un rapporto speciale con il bosco, soprattutto con le Amadriadi, ninfe
metà fanciulle, metà albero. Iscrizioni: booking.vela@bak.admin.ch 
• 16.00-18.00 
Pratica di gruppo di OM Chanting
Iscrizioni: booking.vela@bak.admin.ch
MAGGIORI INFO

///
→ Pinacoteca cantonale Giovanni Züst
• 15.30
Visita guidata gratuita all’esposizione Arte dal XIV al XIX secolo nelle
collezioni pubbliche ticinesi.
Uno sguardo d’insieme
L’esposizione riunisce alcune delle opere più significative risalenti al
periodo compreso tra il tardo Medioevo e la seconda metà dell’Ottocento,
conservate nelle raccolte pubbliche ticinesi. Tra queste spicca un
importante dipinto del Maestro della tela jeans, recentemente donato alla
collezione della Pinacoteca Züst. L'autore deve il suo nome convenzionale
alla presenza, in molte delle sue opere, di quel tessuto di fustagno blu
prodotto a Genova che oggi chiamiamo comunemente blue jeans.
Iscrizione obbligatoria (max. 20 persone): +41 91 816 47 91 /
mediazione.zuest@ti.ch
MAGGIORI INFO




Domenica 24 maggio
→ Museo d’arte Mendrisio
• ore 15.00
Visita guidata gratuita all’esposizione Felice Varini
La mostra costituisce la prima grande monografica in Svizzera dedicata a
Felice Varini, tra i principali artisti contemporanei, noto a livello
internazionale per i suoi interventi pittorici nello spazio architettonico.
L’esposizione rende omaggio a cinquant’anni di ricerca su percezione e
prospettiva con un allestimento immersivo che coinvolge l’intero edificio
museale, tra opere storiche adattate e nuovi lavori site-specific.
Iscrizioni: museo@mendrisio.ch
MAGGIORI INFO


 
END:VEVENT
END:VCALENDAR